BEGIN:VCALENDAR
VERSION:2.0
PRODID:icalendar-ruby
CALSCALE:GREGORIAN
BEGIN:VEVENT
DTSTAMP:20260424T144728Z
UID:RUBpPQ
DTSTART;VALUE=DATE:20210928
DTEND;VALUE=DATE:20210929
CLASS:PUBLIC
CREATED:20210824T124507
DESCRIPTION: Are you and your team looking for new ways to evaluate your di
 gital products\, in a way which tells the story behind the numbers? Whethe
 r you're part of a startup or an established business\, join us to explore
  how your product can be evaluated against 14 universal human values. \n\n
  In this virtual workshop\, the BBC R&amp\;D team behind the Human Values 
 project  (humanvalues.io) will lead  individual and group discussions to h
 elp align your product to your audiences’ values using a new tool they h
 ave developed as part of a NESTA funded project. \n
LAST-MODIFIED:20210928T072131
LOCATION:Zoom 
ORGANIZER:mailto:ian.forrester1@bbc.co.uk
SUMMARY:Digital Design & Human Values workshop
URL;VALUE=URI:https://ti.to/bbcrd/digital-design-human-values-workshop
URL;VALUE=URI:https://ti.to/bbcrd/digital-design-human-values-workshop
END:VEVENT
END:VCALENDAR
