BEGIN:VCALENDAR
VERSION:2.0
PRODID:icalendar-ruby
CALSCALE:GREGORIAN
BEGIN:VTIMEZONE
TZID:America/Los_Angeles
BEGIN:DAYLIGHT
DTSTART:20230312T030000
TZOFFSETFROM:-0800
TZOFFSETTO:-0700
RRULE:FREQ=YEARLY;BYDAY=2SU;BYMONTH=3
TZNAME:PDT
END:DAYLIGHT
BEGIN:STANDARD
DTSTART:20231105T010000
TZOFFSETFROM:-0700
TZOFFSETTO:-0800
RRULE:FREQ=YEARLY;BYDAY=1SU;BYMONTH=11
TZNAME:PST
END:STANDARD
END:VTIMEZONE
BEGIN:VEVENT
DTSTAMP:20260421T185408Z
UID:3fE9sA
DTSTART;VALUE=DATE:20230330
DTEND;VALUE=DATE:20230331
CLASS:PUBLIC
CREATED:20230314T102805
DESCRIPTION: HackerDojo is a nonprofit community member based space for lea
 rning and creativity. They are open to members of all stripes. Please chec
 k out their website. \n\n BayPIGgies is one of the oldest python communiti
 es. It has a tradition of supporting free open source software. Please che
 ck out their website. \n\n Want\n to learn more about Graph Databases? Sta
 rt with a one-hour self-paced \nintroductory course. This is the first ste
 p to becoming a Neo4j \nCertified Professional. All training and certifica
 tion are free! https://graphacademy.neo4j.com/ \n
LAST-MODIFIED:20231020T094006
LOCATION:HackerDojo
ORGANIZER:mailto:info@pybay.com
SUMMARY:March 30\, 2023 - Neo4J Sponsors BayPIGgies at HackerDojo
URL;VALUE=URI:https://ti.to/baypiggies/hackerdojo-march-30-baypiggies
URL;VALUE=URI:https://ti.to/baypiggies/hackerdojo-march-30-baypiggies
END:VEVENT
END:VCALENDAR
