BEGIN:VCALENDAR
VERSION:2.0
PRODID:icalendar-ruby
CALSCALE:GREGORIAN
BEGIN:VEVENT
DTSTAMP:20260422T165225Z
UID:CAo1Eg
DTSTART;VALUE=DATE:20191205
DTEND;VALUE=DATE:20191214
CLASS:PUBLIC
CREATED:20190903T104032
DESCRIPTION: Join us this December for our annual Christmas Carol Concert o
 n Thursday 5 or Friday 13 December 2019 at St Luke’s Church in Chelsea. 
 \n
LAST-MODIFIED:20191213T121055
LOCATION:London
ORGANIZER:mailto:events@battersea.org.uk
SUMMARY:Battersea Christmas Carol Concert 2019
URL;VALUE=URI:https://ti.to/battersea/battersea-christmas-carol-concert-201
 9
URL;VALUE=URI:https://ti.to/battersea/battersea-christmas-carol-concert-201
 9
END:VEVENT
END:VCALENDAR
