BEGIN:VCALENDAR
VERSION:2.0
PRODID:icalendar-ruby
CALSCALE:GREGORIAN
BEGIN:VEVENT
DTSTAMP:20260420T084326Z
UID:HpKdlQ
DTSTART;VALUE=DATE:20170506
DTEND;VALUE=DATE:20170507
CLASS:PUBLIC
CREATED:20170411T150243
DESCRIPTION: Wear your best derby hat and join the Kentucky Derby party at 
 Joey Gerard’s – Mequon on Saturday\, May 6 starting at 3:30 p.m. \n\n 
 The party includes a Mint Julep in a commemorative Woodford Reserve derby 
 glass\, and complimentary appetizers! \n\n What better way to celebrate th
 e Kentucky Derby than with Woodford Reserve – a small batch Kentucky Whi
 skey! \n\n Get your tickets today… and don’t forget your hat! \n
LAST-MODIFIED:20170412T182406
LOCATION:11120 N. Cedarburg Rd Mequon\, WI 53092
ORGANIZER:mailto:info@joeygerards.com
SUMMARY:Kentucky Derby Party at Joey Gerard's Mequon
URL;VALUE=URI:https://ti.to/bartolottas/kentucky-derby-party-at-joey-gerard
 -s-mequon
URL;VALUE=URI:https://ti.to/bartolottas/kentucky-derby-party-at-joey-gerard
 -s-mequon
END:VEVENT
END:VCALENDAR
