BEGIN:VCALENDAR
VERSION:2.0
PRODID:icalendar-ruby
CALSCALE:GREGORIAN
BEGIN:VTIMEZONE
TZID:America/New_York
BEGIN:DAYLIGHT
DTSTART:20250309T030000
TZOFFSETFROM:-0500
TZOFFSETTO:-0400
RRULE:FREQ=YEARLY;BYDAY=2SU;BYMONTH=3
TZNAME:EDT
END:DAYLIGHT
BEGIN:STANDARD
DTSTART:20251102T010000
TZOFFSETFROM:-0400
TZOFFSETTO:-0500
RRULE:FREQ=YEARLY;BYDAY=1SU;BYMONTH=11
TZNAME:EST
END:STANDARD
END:VTIMEZONE
BEGIN:VEVENT
DTSTAMP:20260425T141039Z
UID:PNDLtw
DTSTART;TZID=America/New_York:20250516T190000
DTEND;TZID=America/New_York:20250518T213000
CLASS:PUBLIC
CREATED:20240914T122734
DESCRIPTION: South Carolina's first Baroque Music Festival\, featuring six 
 concerts over the weekend of May 16-18\, 2025. Performers include Echoing 
 Air\, the South Carolina Bach Choir\, the North Carolina Baroque Orchestra
 \, and more! The final performance is J.S. Bach’s Mass in b minor. Don
 ’t miss this incredible event weekend! Tickets available now. \n
LAST-MODIFIED:20250512T105615
LOCATION:Greenville\, SC
ORGANIZER:mailto:info@scbach.org
SUMMARY:2025 Baroque Music Festival
URL;VALUE=URI:https://ti.to/baroque-music-festival/2025-baroque-music-festi
 val
URL;VALUE=URI:https://ti.to/baroque-music-festival/2025-baroque-music-festi
 val
END:VEVENT
BEGIN:VEVENT
DTSTAMP:20260425T141039Z
UID:PNDLtw1076069
DTSTART;TZID=America/New_York:20250516T190000
DTEND;VALUE=DATE:20250517
CLASS:PUBLIC
CREATED:20241017T112932
LAST-MODIFIED:20250516T165724
LOCATION:Trinity Church of Greenville\, 100 Pete Hollis Blvd\, Greenville\,
  SC 29601\, USA
ORGANIZER:mailto:info@scbach.org
SUMMARY:[2025 Baroque Music Festival] Friday Ticketed Concert - North Carol
 ina Baroque Orchestra
URL;VALUE=URI:https://ti.to/baroque-music-festival/2025-baroque-music-festi
 val
URL;VALUE=URI:https://ti.to/baroque-music-festival/2025-baroque-music-festi
 val
END:VEVENT
BEGIN:VEVENT
DTSTAMP:20260425T141039Z
UID:PNDLtw1076070
DTSTART;TZID=America/New_York:20250517T190000
DTEND;VALUE=DATE:20250518
CLASS:PUBLIC
CREATED:20241017T113002
DESCRIPTION:Echoing Air\, Inc. is a chamber ensemble dedicated to exploring
  and\npresenting music featuring singers with Baroque instruments\, with a
 n\nemphasis on music of the English Baroque.\n\nThe concert will be perfor
 med at Trinity Church of Greenville\, 100 Pete Hollis Blvd\, Greenville\, 
 SC\, 29601.
LAST-MODIFIED:20250512T185306
LOCATION:Trinity Church of Greenville\, 100 Pete Hollis Blvd\, Greenville\,
  SC 29601\, USA
ORGANIZER:mailto:info@scbach.org
SUMMARY:[2025 Baroque Music Festival] Saturday Ticketed Concert - Echoing A
 ir Ensemble
URL;VALUE=URI:https://ti.to/baroque-music-festival/2025-baroque-music-festi
 val
X-ALT-DESC;FMTTYPE=text/html:Echoing Air\, Inc. is a chamber ensemble dedic
 ated to exploring and\npresenting music featuring singers with Baroque ins
 truments\, with an\nemphasis on music of the English Baroque.\n\nThe conce
 rt will be performed at Trinity Church of Greenville\, 100 Pete Hollis Blv
 d\, Greenville\, SC\, 29601.
URL;VALUE=URI:https://ti.to/baroque-music-festival/2025-baroque-music-festi
 val
END:VEVENT
BEGIN:VEVENT
DTSTAMP:20260425T141039Z
UID:PNDLtw1076071
DTSTART;TZID=America/New_York:20250518T190000
DTEND;VALUE=DATE:20250519
CLASS:PUBLIC
CREATED:20241017T113108
DESCRIPTION:The South Carolina Bach Choir and Soloists along with the North
  Carolina Baroque Orchestra will perform one of J.S. Bach's greatest maste
 rworks. There will be an intermission.\n\nThe concert will be at St. Paul'
 s Anglican Church\, 304 E Camperdown Way\, Greenville\, SC 29601
LAST-MODIFIED:20250518T184752
LOCATION:St. Paul's Anglican Church\, 304 E Camperdown Way\, Greenville\, S
 C 29601\, USA
ORGANIZER:mailto:info@scbach.org
SUMMARY:[2025 Baroque Music Festival] Sunday Ticketed Concert - J.S. Bach B
  Minor Mass
URL;VALUE=URI:https://ti.to/baroque-music-festival/2025-baroque-music-festi
 val
X-ALT-DESC;FMTTYPE=text/html:The South Carolina Bach Choir and Soloists alo
 ng with the North Carolina Baroque Orchestra will perform one of J.S. Bach
 's greatest masterworks. There will be an intermission.\n\nThe concert wil
 l be at St. Paul's Anglican Church\, 304 E Camperdown Way\, Greenville\, S
 C 29601
URL;VALUE=URI:https://ti.to/baroque-music-festival/2025-baroque-music-festi
 val
END:VEVENT
END:VCALENDAR
