BEGIN:VCALENDAR
VERSION:2.0
PRODID:icalendar-ruby
CALSCALE:GREGORIAN
BEGIN:VTIMEZONE
TZID:Europe/Madrid
BEGIN:DAYLIGHT
DTSTART:20150329T030000
TZOFFSETFROM:+0100
TZOFFSETTO:+0200
RRULE:FREQ=YEARLY;BYDAY=-1SU;BYMONTH=3
TZNAME:CEST
END:DAYLIGHT
BEGIN:STANDARD
DTSTART:20151025T020000
TZOFFSETFROM:+0200
TZOFFSETTO:+0100
RRULE:FREQ=YEARLY;BYDAY=-1SU;BYMONTH=10
TZNAME:CET
END:STANDARD
END:VTIMEZONE
BEGIN:VEVENT
DTSTAMP:20260426T000018Z
UID:6Qlv1Q
DTSTART;VALUE=DATE:20150619
DTEND;VALUE=DATE:20150624
CLASS:PUBLIC
CREATED:20140808T130653
DESCRIPTION: MediterráneaJS - A conference that inspires. \n
LAST-MODIFIED:20151208T181810
LOCATION:El Born CC\, Plaça Comercial 12\, 08003 Barcelona
ORGANIZER:mailto:info@mediterraneajs.eu
SUMMARY:MediterráneaJS
URL;VALUE=URI:https://ti.to/barcelonajs/mediterraneajs
URL;VALUE=URI:https://ti.to/barcelonajs/mediterraneajs
END:VEVENT
END:VCALENDAR
