BEGIN:VCALENDAR
VERSION:2.0
PRODID:icalendar-ruby
CALSCALE:GREGORIAN
BEGIN:VTIMEZONE
TZID:Europe/London
BEGIN:DAYLIGHT
DTSTART:20250330T020000
TZOFFSETFROM:+0000
TZOFFSETTO:+0100
RRULE:FREQ=YEARLY;BYDAY=-1SU;BYMONTH=3
TZNAME:BST
END:DAYLIGHT
BEGIN:STANDARD
DTSTART:20251026T010000
TZOFFSETFROM:+0100
TZOFFSETTO:+0000
RRULE:FREQ=YEARLY;BYDAY=-1SU;BYMONTH=10
TZNAME:GMT
END:STANDARD
END:VTIMEZONE
BEGIN:VEVENT
DTSTAMP:20260422T090232Z
UID:titQ5g
DTSTART;TZID=Europe/London:20250625T180000
DTEND;TZID=Europe/London:20250625T210000
CLASS:PUBLIC
CREATED:20250530T112437
DESCRIPTION: Join us at our Hackney store for a fun\, educational evening o
 f bike maintenance with the incredible Kate Jones - aka Pelohun! \n\n Kate
  is taking part in The Route and will be riding the full Tour de France Fe
 mmes avec Zwift route to raise vital funds for our charity partner Cure Le
 ukaemia \n\n This is a welcoming\, supportive bike maintenance session ope
 n to all women\, including trans women\, and non-binary people who feel co
 mfortable in a women-centred space. Whether you're completely new to bike 
 mechanics or looking to build confidence\, we’d love to have you join us
 . \n\n All the profit from ticket sales will be donated to Kate's fundrais
 er. If you would like to make an extra donation you can do so here. \n\n Y
 ou’ll learn how to fix a puncture and master essential maintenance tips 
 – empowering you to feel confident and self-sufficient on the road or tr
 ail. (No need to bring your own bike – we’ll be demoing on shop bikes.
 ) \n\n Expect a welcoming vibe\, good food and drinks\, and plenty of time
  to connect with fellow cyclists. Come for the skills – stay for the com
 munity! \n
LAST-MODIFIED:20250602T104030
LOCATION:Balfe's Bikes Hackney\, 164 Mare St\, London\, E8 3RG
ORGANIZER:mailto:marketing@balfesbikes.co.uk
SUMMARY:Women's Bike Maintenance Night & Cure Leukaemia Fundraiser
URL;VALUE=URI:https://ti.to/balfes-bikes/womens-maintenance-night-cure-leuk
 aemia-fundraiser
URL;VALUE=URI:https://ti.to/balfes-bikes/womens-maintenance-night-cure-leuk
 aemia-fundraiser
END:VEVENT
END:VCALENDAR
