BEGIN:VCALENDAR
VERSION:2.0
PRODID:icalendar-ruby
CALSCALE:GREGORIAN
BEGIN:VTIMEZONE
TZID:Europe/London
BEGIN:DAYLIGHT
DTSTART:20250330T020000
TZOFFSETFROM:+0000
TZOFFSETTO:+0100
RRULE:FREQ=YEARLY;BYDAY=-1SU;BYMONTH=3
TZNAME:BST
END:DAYLIGHT
BEGIN:STANDARD
DTSTART:20251026T010000
TZOFFSETFROM:+0100
TZOFFSETTO:+0000
RRULE:FREQ=YEARLY;BYDAY=-1SU;BYMONTH=10
TZNAME:GMT
END:STANDARD
END:VTIMEZONE
BEGIN:VEVENT
DTSTAMP:20260423T154103Z
UID:xMjnRw
DTSTART;TZID=Europe/London:20250918T180000
DTEND;TZID=Europe/London:20250918T210000
CLASS:PUBLIC
CREATED:20250811T115406
DESCRIPTION: Join us for a night dedicated to all things bikepacking and gr
 avel riding\, featuring special guest Edward Hunton. \n\n Fresh off the re
 lease of his brand new Cicerone guidebook\, Bikepacking: South East Gravel
 \, Ed will share tales from the trail and reveal 12 incredible gravel bike
 packing routes - all just a stone’s throw from London. \n\n You’ll als
 o hear from our very own Barry Godin\, who’ll deliver an inspiring "Intr
 o to Bikepacking" session\, covering the essential kit\, tips\, and tricks
  you need to kickstart your own two-wheeled adventures. \n\n 🍕 We'll al
 so be putting on some food and drink to keep you well-fuelled throughout t
 he evening! Each ticket holder will receive a FREE goodie bag. \n
LAST-MODIFIED:20250918T161748
LOCATION:Balfe's Bikes Hackney\, 164-167 Mare Street\, Hackney\, London\, E
 8 3RG
ORGANIZER:mailto:marketing@balfesbikes.co.uk
SUMMARY:Adventure Night #1 at Balfe's Bikes Hackney
URL;VALUE=URI:https://ti.to/balfes-bikes/adventure-night-at-balfes-bikes-ha
 ckney-september18th2025
URL;VALUE=URI:https://ti.to/balfes-bikes/adventure-night-at-balfes-bikes-ha
 ckney-september18th2025
END:VEVENT
END:VCALENDAR
