BEGIN:VCALENDAR
VERSION:2.0
PRODID:icalendar-ruby
CALSCALE:GREGORIAN
BEGIN:VEVENT
DTSTAMP:20260419T123844Z
UID:KyxHTg
DTSTART:20250809T120000
DTEND:20250809T133000
CLASS:PUBLIC
CREATED:20250725T102723
DESCRIPTION: BAISAŌ Experience at Still Room Antwerp \n\n Tea Ceremony and
  Guided Ritual by Bruno Sitton\, Cédric Etienne and Ranie Ribiero \n\n St
 ep into a space where silence becomes sacred and Tea becomes a gateway to 
 clarity and transformation. \n\n Held inside the elemental Still Room in A
 ntwerp\, this 90-minute BAISAŌ Experience invites you to slow down\, grou
 nd yourself\, and reconnect with your body\, breath\, and inner voice. \n\
 n This is not just a Tea ceremony. It is a living ritual. A shared pause. 
 A return to the essential. \n\n Led by Bruno Sitton\, the session weaves t
 ogether Tea\, sound\, stillness\, and presence to awaken the senses and op
 en space for new possibilities. You will leave with more than calm. You wi
 ll leave changed. \n\n \n\n What Awaits You \n\n Tea Ceremony by Bruno Sit
 ton\nThe heart of the BAISAŌ Experience\nThis guided Tea ritual invites y
 ou to become still and fully present. Using carefully selected loose-leaf 
 Tea\, Bruno guides you through a journey that reconnects body and mind. St
 eeped in intention\, silence\, and subtle energy\, it is a moment to reset
 \, reflect\, and realign with what matters. \n\n  \nThe Still Room by Céd
 ric Etienne\nA space designed for silence\nCreated by Belgian architect an
 d spatial designer Cédric Etienne\, the Still Room invites you into a wor
 ld of textures\, light\, and restraint. It is minimal\, elemental\, and bu
 ilt to hold presence. This is not architecture designed to impress but to 
 guide you inward. Every line and surface is an invitation to return to you
 rself. Here\, silence becomes a companion and architecture becomes ritual.
  \n\n  \nLive Harp by Ranie Ribeiro\nSound that deepens the stillness\nRot
 terdam-based harpist and composer Ranie Ribeiro brings a subtle\, atmosphe
 ric presence to the experience. His live improvisations gently flow throug
 h the room\, guiding the Tea meditation with intuitive care. More than mus
 ic\, it is breath\, space\, and stillness woven into sound. \n\n   \n\n \n
 \n Limited spots available for each session\nChoose your time slot and res
 erve now to enter the world of BAISAŌ. \n
LAST-MODIFIED:20250808T223439
LOCATION:Still Room by Cédric Etienne
ORGANIZER:mailto:brusitton@gmail.com
SUMMARY:BAISAŌ Experience At Still Room Antwerp
URL;VALUE=URI:https://ti.to/baisao-experience/3
URL;VALUE=URI:https://ti.to/baisao-experience/3
END:VEVENT
END:VCALENDAR
