BEGIN:VCALENDAR
VERSION:2.0
PRODID:icalendar-ruby
CALSCALE:GREGORIAN
BEGIN:VEVENT
DTSTAMP:20260421T160132Z
UID:zrEzRw
DTSTART;VALUE=DATE:20191018
DTEND;VALUE=DATE:20191021
CLASS:PUBLIC
CREATED:20190916T101844
DESCRIPTION: Calling all Space fans! \n\n Are you a storyteller\, designer\
 , engineer or scientist? \n\n We're hosting a weekend-long hackathon in Du
 blin that will use Space data to help solve global challenges set by NASA.
  \n\n It is free to attend. There will be free food and swag. You'll meet 
 Space Industry experts\, learn\, and have a chance at winning Prizes. \n\n
  How it works: 1. Choose a challenge &gt\; 2. Create a team &gt\; 3. Get s
 tarted hacking! \n\n More details: \n\n \n  Interdisciplinary teams in Dub
 lin will form and come together to use open-source Space data to tackle so
 me of humanity and NASA's greatest challenges  \n  The 3-day event is a ch
 allenge competition managed by NASA and local hosts\, with participation f
 rom teams in over 200 locations across the Globe  \n  You don't have to be
  a member of a team to signup. Join a team\, or bring your own. There will
  be space for 10 teams this year\, competing to win local and global judgi
 ng rounds  \n  No previous experience in the Space industry required - exp
 ert mentors will be on hand  \n  Last year's Space Apps challenge included
  over 18\,000 participants at more than 200 events in 75 countries  \n  Re
 ad about previous local winners: Silicon Republic  \n  Local hosts: Baily 
 Labs  \n  Local sponsors and partners include Baily Labs\, WeWork Labs\, D
 ublin City Council\, ESA Space Solutions Ireland\, Trinity College Dublin\
 , Dublin Startup Week\, IADT  \n  This event is ticketed only and will hav
 e limited capacity  \n  Please note that this event is only available to p
 ersons over the age of 18 years  \n \n
LAST-MODIFIED:20191208T165637
LOCATION:Baily Labs\, Charlemont Exchange\, Dublin
ORGANIZER:mailto:events@bailylabs.com
SUMMARY:NASA Space Apps Dublin 2019
URL;VALUE=URI:https://ti.to/bailylabs/nasa-space-apps-dublin-2019
URL;VALUE=URI:https://ti.to/bailylabs/nasa-space-apps-dublin-2019
END:VEVENT
BEGIN:VEVENT
DTSTAMP:20260421T160132Z
UID:zrEzRw1028676
DTSTART:20191018T190000
DTEND:20191018T210000
CLASS:PUBLIC
CREATED:20190916T135859
DESCRIPTION:We kickoff Friday evening with registration\, challenge discuss
 ion and team confirmation.
LAST-MODIFIED:20190926T160707
ORGANIZER:mailto:events@bailylabs.com
SUMMARY:[NASA Space Apps Dublin 2019] Friday
URL;VALUE=URI:https://ti.to/bailylabs/nasa-space-apps-dublin-2019
X-ALT-DESC;FMTTYPE=text/html:We kickoff Friday evening with registration\, 
 challenge discussion and team confirmation.
URL;VALUE=URI:https://ti.to/bailylabs/nasa-space-apps-dublin-2019
END:VEVENT
BEGIN:VEVENT
DTSTAMP:20260421T160132Z
UID:zrEzRw1028677
DTSTART:20191019T090000
DTEND:20191019T210000
CLASS:PUBLIC
CREATED:20190916T140000
DESCRIPTION:Full day of problem discovery and solution design.
LAST-MODIFIED:20190926T160658
ORGANIZER:mailto:events@bailylabs.com
SUMMARY:[NASA Space Apps Dublin 2019] Saturday
URL;VALUE=URI:https://ti.to/bailylabs/nasa-space-apps-dublin-2019
X-ALT-DESC;FMTTYPE=text/html:Full day of problem discovery and solution des
 ign.
URL;VALUE=URI:https://ti.to/bailylabs/nasa-space-apps-dublin-2019
END:VEVENT
BEGIN:VEVENT
DTSTAMP:20260421T160132Z
UID:zrEzRw1028678
DTSTART:20191020T090000
DTEND:20191020T180000
CLASS:PUBLIC
CREATED:20190916T140200
DESCRIPTION:Solution creation\, pitch practice and presentation.
LAST-MODIFIED:20190926T160649
ORGANIZER:mailto:events@bailylabs.com
SUMMARY:[NASA Space Apps Dublin 2019] Sunday
URL;VALUE=URI:https://ti.to/bailylabs/nasa-space-apps-dublin-2019
X-ALT-DESC;FMTTYPE=text/html:Solution creation\, pitch practice and present
 ation.
URL;VALUE=URI:https://ti.to/bailylabs/nasa-space-apps-dublin-2019
END:VEVENT
END:VCALENDAR
