BEGIN:VCALENDAR
VERSION:2.0
PRODID:icalendar-ruby
CALSCALE:GREGORIAN
BEGIN:VEVENT
DTSTAMP:20260422T090204Z
UID:tWjs0Q
DTSTART:20260422T100000
DTEND:20260422T120000
CLASS:PUBLIC
CREATED:20260203T161624
DESCRIPTION: Join SAUST\, BAG-INTEL\, and CustomAI projects for an interact
 ive webinar exploring end-to-end security and customs intelligence. \n\n A
 s the volume of international trade and travel grows\, the technical chall
 enge for customs authorities is clear: identifying illicit goods within ma
 ssive streams of baggage and freight without stalling their flow. \n\n Thi
 s webinar will bring together three European projects to share their speci
 alized findings on how advanced technologies such as vapor sensing and AI-
 based x-ray analysis can enhance the detection of illicit goods while stre
 amlining the customs inspection process. \n\n This session will provide a 
 comprehensive look at how different advanced technologies are being develo
 ped to detect contraband across different scenarios: \n\n \n Vapor-Based B
 aggage Screening (SAUST): Discover non-intrusive vapor screening technolog
 y designed for the rapid\, automated detection of drugs\, tobacco\, and ex
 plosives in baggage. \n AI-Driven Decision Support System (BAG-INTEL): Exp
 lore how AI is leveraged to help customs officers at inland airports selec
 t incoming baggage for inspections\, increasing the efficiency of contraba
 nd detection. \n Multi-Modal Cargo &amp\; Parcel Intelligence (CustomAI): 
 Gain insights into an AI toolkit designed to reduce false positives in hig
 h-volume environments\, with real-world validation cases covering maritime
  containers\, postal parcels\, and the detection of illegally exported cul
 tural goods. \n \n\n The webinar will feature project introductions\, two 
 focused panel discussions\, and a Q&amp\;A session. \n
LAST-MODIFIED:20260415T112916
LOCATION:Online
ORGANIZER:mailto:info@bag-intel.eu
SUMMARY:“Building an Integrated Security Ecosystem: Advancing Detection A
 cross the Global Trade and Transit Continuum”
URL;VALUE=URI:https://ti.to/bag-intel/building-an-integrated-security-ecosy
 stem-advancing-detection-across-the-global-trade-and-transit-continuum
URL;VALUE=URI:https://ti.to/bag-intel/building-an-integrated-security-ecosy
 stem-advancing-detection-across-the-global-trade-and-transit-continuum
END:VEVENT
END:VCALENDAR
