BEGIN:VCALENDAR
VERSION:2.0
PRODID:icalendar-ruby
CALSCALE:GREGORIAN
BEGIN:VEVENT
DTSTAMP:20260425T133925Z
UID:EI7AZA
DTSTART;VALUE=DATE:20130407
DTEND;VALUE=DATE:20130408
CLASS:PUBLIC
CREATED:20130315T170128
DESCRIPTION: BaconBiz Launch Roundtable with hosts Amy Hoy and Alex Hillman
 \, and speakers Chris Hartjes\, Brandon Savage and Brennan Dunn! \n
LAST-MODIFIED:20231212T102856
LOCATION:Online!
ORGANIZER:mailto:amy@slash7.com
SUMMARY:BaconBiz Launch Roundtable
URL;VALUE=URI:https://ti.to/baconbiz/launch-roundtable
URL;VALUE=URI:https://ti.to/baconbiz/launch-roundtable
END:VEVENT
END:VCALENDAR
