BEGIN:VCALENDAR
VERSION:2.0
PRODID:icalendar-ruby
CALSCALE:GREGORIAN
BEGIN:VEVENT
DTSTAMP:20260422T165538Z
UID:EsgBkw
DTSTART;VALUE=DATE:20180309
DTEND;VALUE=DATE:20180311
CLASS:PUBLIC
CREATED:20171103T170556
DESCRIPTION: Bond is a new\, intimate conference that examines how creators
  make a living through the internet.  \n\n http://bond.backerkit.com \n
LAST-MODIFIED:20180402T172015
LOCATION:Gray Area Grand Theatre\, San Francisco
ORGANIZER:mailto:noreply-calendar@tito.io
SUMMARY:Bond
URL;VALUE=URI:https://ti.to/backerkit/bond
URL;VALUE=URI:https://ti.to/backerkit/bond
END:VEVENT
END:VCALENDAR
