BEGIN:VCALENDAR
VERSION:2.0
PRODID:icalendar-ruby
CALSCALE:GREGORIAN
BEGIN:VEVENT
DTSTAMP:20260423T152419Z
UID:HEppUA
DTSTART;VALUE=DATE:20231022
DTEND;VALUE=DATE:20231025
CLASS:PUBLIC
CREATED:20230802T154009
DESCRIPTION: \n"WORLD CLASS EXPERIENCES: LOCAL AUTHENTICITY" #AVEAconf23\n 
 \n\n It is with great delight that we announce the 2023\nAnnual Conference
  of AVEA\, Ireland's Association of Visitor Experiences &amp\;\nAttraction
 s\, will take place in Co Clare on Monday 23rd and Tuesday 24th\nOctober. 
 The theme of the Conference is 'World Class\nExperiences: Local Authentici
 ty.' \n\n The focus of the conference is\non how\, in striving to deliver 
 best-in-class visitor experiences\, the visitor\nmust feel an authentic se
 nse of place\, a unique and special feeling that makes\ngreat memories. \n
 \n GUESTS: Eoghan Phipps\, Country Manager\, Google Ireland - Joan Mulvihi
 ll\, former CEO Irish Internet Association - Rachel Mackay\, Hampton Court
  Palace - Rich Neville\, BBC Earth Experience - John Harte\, ATS Heritage 
 - Kelly Molson\, Rubber Cheese - Eoghan O'Mara Walsh\, CEO\, ITIC - Jenny 
 de Saulles\, Director of Sector Development\, Failte Ireland ... and many 
 more! \n\n Anchored firmly in Co Clare\, the conference seeks\nto generate
  a personal and emotional bond through place-making\, and will\nfeature el
 ements of Clare’s distinctively rich culture and heritage –\nstory-tel
 ling\, music\, landscape and seascape\, curiosity\, and hospitality. \n\n 
 SUNDAY 22nd OCTOBER 2023:\nOption of arrival on Sunday with special\npre-c
 onference event\, and option of return coach transfer from Nassau St\, Dub
 lin 2 \n\n MONDAY 23RD OCTOBER 2023:\n9.00am: Guided\nLearning Journey to 
 Burren and Cliffs of Moher UNESCO Geopark and Caherconnell\nStone Fort\, d
 eparting The Falls Hotel / 12.00pm: Badge collection opens / 12.30pm: Welc
 ome Delegate Lunch / 1.45pm: Conference Session 1 opens / 5.30pm: Conferen
 ce Session 1 closes / 7.30pm Reception and Gala Dinner \n\n TUESDAY 24th O
 CTOBER 2023:\n8.00am: Early\nMorning Programme / 9.00am: Conference Sessio
 n 2 opens / 12.30pm Conference Session 2 closes / 12.45pm Delegate Farewel
 l Lunch \n\n We hope our delegates enjoy\nthis landmark event\, and feel e
 nergised and motivated by meeting your peers\,\nand enjoying vibrant\, eng
 aging dialogue with like-minded tourism stakeholders\nand all those with a
 n interest in delivering outstanding\, unforgettable and\nauthentic visito
 r experiences. \n
LAST-MODIFIED:20231021T155917
LOCATION:The Falls Hotel\, Ennistymon\, Co Clare\, Ireland
ORGANIZER:mailto:cflanagan@avea.ie
SUMMARY:AVEA Annual Conference 2023 - #AVEAconf23
URL;VALUE=URI:https://ti.to/avea-annual-conference-2023/avea-annual-confere
 nce-2022-copy
URL;VALUE=URI:https://ti.to/avea-annual-conference-2023/avea-annual-confere
 nce-2022-copy
END:VEVENT
END:VCALENDAR
