BEGIN:VCALENDAR
VERSION:2.0
PRODID:icalendar-ruby
CALSCALE:GREGORIAN
BEGIN:VEVENT
DTSTAMP:20260424T145642Z
UID:H83yyA
DTSTART;VALUE=DATE:20171107
DTEND;VALUE=DATE:20171108
CLASS:PUBLIC
CREATED:20171025T081205
DESCRIPTION: The Australian Embassy Dublin and the Irish Australian Chamber
  of Commerce are pleased to invite you to a breakfast briefing on Tuesday 
 7 November 2017  with Ms Julia Mills\, Director UK &amp\; Europe\, Invest 
 Victoria.  \n\n The breakfast briefing is a chance for you to learn about 
 the Victorian market\, including key economic trends and opportunities\, s
 uch as in the infrastructure and renewable energy sectors. Victoria\, desp
 ite being just 3 per cent of the land mass\, is Australia’s second most 
 populous state and accounts for almost a quarter of the nation’s economi
 c activity. Its capital city Melbourne\, which has been voted the world’
 s most liveable city for 7 years in a row\, is expected to overtake Sydney
  as Australia’s largest city by 2030. \n\n Invest Victoria is the Victor
 ian Government's investment promotion agency\, providing professional advi
 ce to international companies looking to set up in Melbourne and wider Vic
 toria. Julia will be available for one to one meetings after the briefing.
  \n\n We look forward to welcoming you to this special event on Tuesday\, 
 7th November 2017. \n
LAST-MODIFIED:20171026T223711
LOCATION:Australian Embassy\, 7th Floor\, Fitzwilton House\, Dublin 2
ORGANIZER:mailto:simon.mamouney@dfat.gov.au
SUMMARY:Breakfast meeting with Director UK & Europe\, Invest Victoria - 7 N
 ov 2017
URL;VALUE=URI:https://ti.to/australian-embassy-dublin/breakfast-meeting-wit
 h-invest-victoria
URL;VALUE=URI:https://ti.to/australian-embassy-dublin/breakfast-meeting-wit
 h-invest-victoria
END:VEVENT
END:VCALENDAR
