BEGIN:VCALENDAR
VERSION:2.0
PRODID:icalendar-ruby
CALSCALE:GREGORIAN
BEGIN:VTIMEZONE
TZID:Africa/Cairo
BEGIN:DAYLIGHT
DTSTART:20240426T010000
TZOFFSETFROM:+0200
TZOFFSETTO:+0300
RRULE:FREQ=YEARLY;BYDAY=-1FR;BYMONTH=4
TZNAME:EEST
END:DAYLIGHT
BEGIN:STANDARD
DTSTART:20231026T230000
TZOFFSETFROM:+0300
TZOFFSETTO:+0200
RRULE:FREQ=YEARLY;BYDAY=-1TH;BYMONTH=10
TZNAME:EET
END:STANDARD
END:VTIMEZONE
BEGIN:VEVENT
DTSTAMP:20260425T142623Z
UID:FjvS9A
DTSTART;TZID=Africa/Cairo:20240420T100000
DTEND;TZID=Africa/Cairo:20240420T220000
CLASS:PUBLIC
CREATED:20240227T205443
DESCRIPTION: Get your ticket to attend V-Lab Summit! This year\, the one-da
 y event returns with expert knowledge\, networking opportunities and the l
 atest updates from the entrepreneurship ecosystem. From valuable panel dis
 cussions and inspiring one-on-one discussions to exclusive workshops and o
 ur 10th anniversary\, this is one event you wouldn't want to miss! \n\n Pl
 ease note that while tickets are free\, pre-event registration is a must t
 o ensure campus access for this event. Attendees will receive event confir
 mations after registering.  \n\n On the day of the event\, kindly make sur
 e to bring your National ID. \n\n Event agenda will be available soon! Sta
 y tuned. For more information\, check out: https://www.vlabsummit.com/ \n\
 n All campus visitors must abide by the university regulations including t
 he campus access policy here: https://documents.aucegypt.edu/Docs/about/Ca
 mpus%20Guidelines%20-%20Fall%202023.pdf \n\n احصل على تذكرتك 
 لحضور V-Lab Summit \n حاضنة ومسرعة الجامعة الأم
 ريكية بالقاهرة تقدم لكم يوم كامل من المع
 لومات القيمة، فرص التشبيك وأبرز التطورا
 ت بمجال ريادة الأعمال. تشمل الفعالية مجم
 وعة من النقاشات الحوارية و ورش العمل بال
 اضافة إلى الاحتفال بمرور ١٠ سنين على تأس
 يس الحاضنة. \n\n يشرفنا حضوركم! التذاكر مجا
 نية لكن نرجو التسجيل المسبق لضمان حضوركم
  الفعالية ولتصلكم رسالة التأكيد. \n\n  يرجى
  الحرص على إحضار بطاقة الرقم القومي أو إث
 بات شخصية لدخول الجامعة ومراعاة قواعد ال
 حرم الجامعي وارشادات السلامة. \n
LAST-MODIFIED:20250125T162327
LOCATION:AUC New Cairo
ORGANIZER:mailto:vlab@aucegypt.edu
SUMMARY:V-Lab Summit
URL;VALUE=URI:https://ti.to/aucvlab/vlabsummit
URL;VALUE=URI:https://ti.to/aucvlab/vlabsummit
END:VEVENT
END:VCALENDAR
