BEGIN:VCALENDAR
VERSION:2.0
PRODID:icalendar-ruby
CALSCALE:GREGORIAN
BEGIN:VTIMEZONE
TZID:Europe/Brussels
BEGIN:DAYLIGHT
DTSTART:20230326T030000
TZOFFSETFROM:+0100
TZOFFSETTO:+0200
RRULE:FREQ=YEARLY;BYDAY=-1SU;BYMONTH=3
TZNAME:CEST
END:DAYLIGHT
BEGIN:STANDARD
DTSTART:20231029T020000
TZOFFSETFROM:+0200
TZOFFSETTO:+0100
RRULE:FREQ=YEARLY;BYDAY=-1SU;BYMONTH=10
TZNAME:CET
END:STANDARD
END:VTIMEZONE
BEGIN:VEVENT
DTSTAMP:20260422T085352Z
UID:OHtksA
DTSTART;VALUE=DATE:20230425
DTEND;VALUE=DATE:20230427
CLASS:PUBLIC
CREATED:20230310T101739
DESCRIPTION: The ASSURED Scientific Workshop on "Sustainable Security in Sy
 stems-of-Systems" aims at bringing together industry\, academia and standa
 rdization bodies to exchange knowledge and explore new ideas and research 
 directions for tackling the challenges related but not limited to security
 -by-design for embedded systems\, scalable assurance and verification meth
 odologies for system security and resilience (both software and hardware)\
 , and security-aware policy enforcement and deployment that pave the way f
 or establishing sustainable security for computing platforms. \n\n The ASS
 URED Scientific Workshop will be held by the Computer Science department o
 f TU Darmstadt. \n\n The workshop will take place on 25-26 April 2023. \n\
 n For more info about the agenda\, please check the event page at https://
 www.project-assured.eu/event/assured-scientific-workshop/. \n
LAST-MODIFIED:20230331T164118
LOCATION:Welcome Hotel Darmstadt
ORGANIZER:mailto:info@project-assured.eu
SUMMARY:ASSURED "Towards Sustainable Security in Systems-of-Systems"
URL;VALUE=URI:https://ti.to/assured/assured-scientifc-workshop
URL;VALUE=URI:https://ti.to/assured/assured-scientifc-workshop
END:VEVENT
END:VCALENDAR
