BEGIN:VCALENDAR
VERSION:2.0
PRODID:icalendar-ruby
CALSCALE:GREGORIAN
BEGIN:VTIMEZONE
TZID:Europe/Brussels
BEGIN:DAYLIGHT
DTSTART:20230326T030000
TZOFFSETFROM:+0100
TZOFFSETTO:+0200
RRULE:FREQ=YEARLY;BYDAY=-1SU;BYMONTH=3
TZNAME:CEST
END:DAYLIGHT
BEGIN:STANDARD
DTSTART:20221030T020000
TZOFFSETFROM:+0200
TZOFFSETTO:+0100
RRULE:FREQ=YEARLY;BYDAY=-1SU;BYMONTH=10
TZNAME:CET
END:STANDARD
END:VTIMEZONE
BEGIN:VEVENT
DTSTAMP:20260425T192553Z
UID:pUslvQ
DTSTART;VALUE=DATE:20221214
DTEND;VALUE=DATE:20221215
CLASS:PUBLIC
CREATED:20221130T145342
DESCRIPTION: The overarching vision of future-proofing the next-generation 
 of Smart Connectivity “Systems-of-Systems”\, comprising a multitude of
  heterogeneous embedded systems\, is of paramount importance for cementing
  Europe’s vision towards secure and sustainable smart cities. In this co
 ntext\, considering the diversity of involved stakeholders with varying se
 curity and privacy requirements\, the endmost goal is to enable the long-t
 erm transformation of such distributed environments with security solution
 s that can cover all the layers of the deployed application stack\; from n
 etwork security to application security and data security\, each element p
 lays an important role into the system’s overall security posture. \n\n 
 This webinar will provide an overview of the security and trusted computin
 g capabilities that ASSURED can offer. Participants will be introduced to 
 the employed security policy definition language capable of (automatically
 ) compiling policies that are expressive\, deployable and enforceable whil
 e allowing for their update during runtime if new risks have been identifi
 ed and based on the resources available on the target system.\nThe goal is
  to reason behind the construction of new types of policy languages\, thei
 r application in safety-critical domains such as smart cities and get valu
 able feedback on their usability on real use cases and applications. \n\n 
 The webinar will take place on 14 December 2022 at 10:00h - 12:00h CET. \n
 \n For more info about the webinar and the agenda\, please check the event
  page at https://www.project-assured.eu/event/assured-policies-webinar/. \
 n
LAST-MODIFIED:20221216T103752
LOCATION:Online event
ORGANIZER:mailto:info@project-assured.eu
SUMMARY:ASSURED CyberSecurity and Insider Threats: Turning Policies into Mi
 tigation Practices for Sustainable Smart Cities
URL;VALUE=URI:https://ti.to/assured/assured-policies-webinar
URL;VALUE=URI:https://ti.to/assured/assured-policies-webinar
END:VEVENT
END:VCALENDAR
