BEGIN:VCALENDAR
VERSION:2.0
PRODID:icalendar-ruby
CALSCALE:GREGORIAN
BEGIN:VEVENT
DTSTAMP:20260422T141446Z
UID:ykEXOg
DTSTART;VALUE=DATE:20170930
DTEND;VALUE=DATE:20171002
CLASS:PUBLIC
CREATED:20170712T081253
DESCRIPTION: RustFest is a conference for people learning\, loving and enjo
 ying the Rust programming language. RustFest returns for the third time to
  Switzerland this year to bring together the community around Rust. \n
LAST-MODIFIED:20260330T180220
LOCATION:Zurich\, Switzerland
ORGANIZER:mailto:team@rustfest.eu
SUMMARY:RustFest Zürich
URL;VALUE=URI:https://ti.to/asquera-event-ug/rustfest-zurich
URL;VALUE=URI:https://ti.to/asquera-event-ug/rustfest-zurich
END:VEVENT
END:VCALENDAR
