BEGIN:VCALENDAR
VERSION:2.0
PRODID:icalendar-ruby
CALSCALE:GREGORIAN
BEGIN:VTIMEZONE
TZID:Europe/Berlin
BEGIN:DAYLIGHT
DTSTART:20260329T030000
TZOFFSETFROM:+0100
TZOFFSETTO:+0200
RRULE:FREQ=YEARLY;BYDAY=-1SU;BYMONTH=3
TZNAME:CEST
END:DAYLIGHT
BEGIN:STANDARD
DTSTART:20261025T020000
TZOFFSETFROM:+0200
TZOFFSETTO:+0100
RRULE:FREQ=YEARLY;BYDAY=-1SU;BYMONTH=10
TZNAME:CET
END:STANDARD
END:VTIMEZONE
BEGIN:VEVENT
DTSTAMP:20260425T135033Z
UID:0z5dfg
DTSTART;TZID=Europe/Berlin:20260914T090000
DTEND;TZID=Europe/Berlin:20260916T180000
CLASS:PUBLIC
CREATED:20251008T165300
DESCRIPTION: Oxidize is the leading conference at the intersection of appli
 ed Rust and real-world decision-making\, bringing together developers and 
 technical leaders building Rust systems in production. \n
LAST-MODIFIED:20260424T152852
LOCATION:Berlin\, Germany
ORGANIZER:mailto:info@oxidizeconf.com
SUMMARY:Oxidize Conference 2026
URL;VALUE=URI:https://ti.to/asquera-event-ug/oxidize-conference-2026
URL;VALUE=URI:https://ti.to/asquera-event-ug/oxidize-conference-2026
END:VEVENT
END:VCALENDAR
