BEGIN:VCALENDAR
VERSION:2.0
PRODID:icalendar-ruby
CALSCALE:GREGORIAN
BEGIN:VTIMEZONE
TZID:Europe/Berlin
BEGIN:DAYLIGHT
DTSTART:20240331T030000
TZOFFSETFROM:+0100
TZOFFSETTO:+0200
RRULE:FREQ=YEARLY;BYDAY=-1SU;BYMONTH=3
TZNAME:CEST
END:DAYLIGHT
BEGIN:STANDARD
DTSTART:20241027T020000
TZOFFSETFROM:+0200
TZOFFSETTO:+0100
RRULE:FREQ=YEARLY;BYDAY=-1SU;BYMONTH=10
TZNAME:CET
END:STANDARD
END:VTIMEZONE
BEGIN:VEVENT
DTSTAMP:20260423T145415Z
UID:tMhbRg
DTSTART;TZID=Europe/Berlin:20240528T090000
DTEND;TZID=Europe/Berlin:20240530T180000
CLASS:PUBLIC
CREATED:20240206T200737
DESCRIPTION: Oxidize is back! \n\n   \n\n May 28 to May 30\, 2024 \n\n The 
 conference for industrial Rust users \n\n  \nWorkshops:\nMay 28\, 2024\nin
 cluding: \n\n \n Intro to Rust \n Confidently using async/.await \n Build 
 cross-platform GUIs with Rust \n Building real-time applications in Rust w
 ith OxidOS \n Introduction to Rust for Safety Critical Systems \n \n\n Con
 ference Days:\nMay 29 and May 30\, 2024 \n\n Two days of applied Rust insi
 ghts from industry innovators. \n\n Find all workshop\, session &amp\; spe
 aker details here: https://oxidizeconf.com/ \n
LAST-MODIFIED:20260330T200220
LOCATION:Tagungswerk Berlin
ORGANIZER:mailto:oxidize@ferrous-systems.com
SUMMARY:Oxidize Conference Berlin 2024
URL;VALUE=URI:https://ti.to/asquera-event-ug/oxidize-2024
URL;VALUE=URI:https://ti.to/asquera-event-ug/oxidize-2024
END:VEVENT
END:VCALENDAR
