BEGIN:VCALENDAR
VERSION:2.0
PRODID:icalendar-ruby
CALSCALE:GREGORIAN
BEGIN:VEVENT
DTSTAMP:20260423T175102Z
UID:QdPYzA
DTSTART;VALUE=DATE:20190831
DTEND;VALUE=DATE:20190901
CLASS:PUBLIC
CREATED:20190302T193950
DESCRIPTION: Asian Fashion Show Chicago is a fashion show showcasing Asian 
 designers and Asian models. There will be 12 designers and over 30 models.
   \n\n Chicago is a growing fashion hub and we want to showcase Asian desi
 gners and models. We believe that fashion is universal and Asians can be e
 ven more successful in this field if there is unity and a platform. \n
LAST-MODIFIED:20190831T043203
LOCATION:
ORGANIZER:mailto:noreply-calendar@tito.io
SUMMARY:2019 Asian Fashion Show Chicago
URL;VALUE=URI:https://ti.to/asian-fashion-show-chicago/2019-asian-fashion-s
 how-chicago
URL;VALUE=URI:https://ti.to/asian-fashion-show-chicago/2019-asian-fashion-s
 how-chicago
END:VEVENT
END:VCALENDAR
