BEGIN:VCALENDAR
VERSION:2.0
PRODID:icalendar-ruby
CALSCALE:GREGORIAN
BEGIN:VTIMEZONE
TZID:America/Chicago
BEGIN:DAYLIGHT
DTSTART:20200308T030000
TZOFFSETFROM:-0600
TZOFFSETTO:-0500
RRULE:FREQ=YEARLY;BYDAY=2SU;BYMONTH=3
TZNAME:CDT
END:DAYLIGHT
BEGIN:STANDARD
DTSTART:20201101T010000
TZOFFSETFROM:-0500
TZOFFSETTO:-0600
RRULE:FREQ=YEARLY;BYDAY=1SU;BYMONTH=11
TZNAME:CST
END:STANDARD
END:VTIMEZONE
BEGIN:VEVENT
DTSTAMP:20260424T171646Z
UID:5GmENA
DTSTART;VALUE=DATE:20201010
DTEND;VALUE=DATE:20201101
CLASS:PUBLIC
CREATED:20201007T110205
DESCRIPTION: Tune in on for Argenta Community Theater's production of the 1
 938 radio play\, WAR OF THE WORLDS\, made infamous by Orson Welles and the
  Mercury Theatre. Argenta's production brings the terror of the original b
 roadcast to life\, while creating a radio play experience that is perfect 
 for 2020. Pay what you can for this performance. All donations benefit the
  ongoing work of Argenta Community Theater amidst the ongoing COVID-19 pub
 lic health crisis. \n
LAST-MODIFIED:20210528T210252
LOCATION:Streaming Online Performance
ORGANIZER:mailto:lgrimes@argentacommunitytheater.org
SUMMARY:War of the Worlds: The 1938 Radio Script
URL;VALUE=URI:https://ti.to/argenta-community-theater/war-of-the-worlds-the
 -1938-radio-script
URL;VALUE=URI:https://ti.to/argenta-community-theater/war-of-the-worlds-the
 -1938-radio-script
END:VEVENT
END:VCALENDAR
