BEGIN:VCALENDAR
VERSION:2.0
PRODID:icalendar-ruby
CALSCALE:GREGORIAN
BEGIN:VEVENT
DTSTAMP:20260421T175025Z
UID:XmbYyA
DTSTART;VALUE=DATE:20150526
DTEND;VALUE=DATE:20150528
CLASS:PUBLIC
CREATED:20150119T111433
DESCRIPTION: ArcticStartup presents the Arctic15\, a two-day conference bri
 nging together entrepreneurs\, investors\, corporate acquirers. \n
LAST-MODIFIED:20260119T084201
LOCATION:Helsinki\, Finland
ORGANIZER:mailto:info@arctic15.com
SUMMARY:Arctic15
URL;VALUE=URI:https://ti.to/arcticstartup/arctic15
URL;VALUE=URI:https://ti.to/arcticstartup/arctic15
END:VEVENT
END:VCALENDAR
