BEGIN:VCALENDAR
VERSION:2.0
PRODID:icalendar-ruby
CALSCALE:GREGORIAN
BEGIN:VTIMEZONE
TZID:Europe/Rome
BEGIN:DAYLIGHT
DTSTART:20230326T030000
TZOFFSETFROM:+0100
TZOFFSETTO:+0200
RRULE:FREQ=YEARLY;BYDAY=-1SU;BYMONTH=3
TZNAME:CEST
END:DAYLIGHT
BEGIN:STANDARD
DTSTART:20231029T020000
TZOFFSETFROM:+0200
TZOFFSETTO:+0100
RRULE:FREQ=YEARLY;BYDAY=-1SU;BYMONTH=10
TZNAME:CET
END:STANDARD
END:VTIMEZONE
BEGIN:VEVENT
DTSTAMP:20260424T160540Z
UID:hRCFrQ
DTSTART;VALUE=DATE:20230609
DTEND;VALUE=DATE:20230611
CLASS:PUBLIC
CREATED:20230427T153513
DESCRIPTION: Venerdì 09 Giugno 2023\, dalle 22.30 alle 03.00\, nella terra
 zza sopra le Poste di Erbusco\, indosserai le cuffie per immergerti in tre
  canali musicali di emozioni\, ricordi e finalmente un po’ di #summervib
 es. \n\n Posti limitati e prenotazione obbligatoria \n\n In caso di pioggi
 a l'evento sarà spostato domenica 11 giugno dalle ore 18 alle 22.30 \n
LAST-MODIFIED:20230608T223722
LOCATION:Erbusco\, Terrazza di via Verdi 34
ORGANIZER:mailto:quellidierbusco@gmail.com
SUMMARY:Silent Erbusco 2k23
URL;VALUE=URI:https://ti.to/aqde/silent-erbusco-2k23
URL;VALUE=URI:https://ti.to/aqde/silent-erbusco-2k23
END:VEVENT
END:VCALENDAR
