BEGIN:VCALENDAR
VERSION:2.0
PRODID:icalendar-ruby
CALSCALE:GREGORIAN
BEGIN:VTIMEZONE
TZID:Europe/London
BEGIN:DAYLIGHT
DTSTART:20260329T020000
TZOFFSETFROM:+0000
TZOFFSETTO:+0100
RRULE:FREQ=YEARLY;BYDAY=-1SU;BYMONTH=3
TZNAME:BST
END:DAYLIGHT
BEGIN:STANDARD
DTSTART:20261025T010000
TZOFFSETFROM:+0100
TZOFFSETTO:+0000
RRULE:FREQ=YEARLY;BYDAY=-1SU;BYMONTH=10
TZNAME:GMT
END:STANDARD
END:VTIMEZONE
BEGIN:VEVENT
DTSTAMP:20260426T041844Z
UID:BUmgOQ
DTSTART;TZID=Europe/London:20260703T160000
DTEND;TZID=Europe/London:20260705T150000
CLASS:PUBLIC
CREATED:20260129T090628
DESCRIPTION: Help us make this London Pride one to remember and receive a d
 iscount on your registration! \n\n We’re excited to be returning with Pr
 ide in the Skies 2026 in London and need your help to allow the event to r
 un smoothly. \n\n If you can spare a few hours during the weekend to help 
 then we’d love to hear from you. Each shift is max two hours long and in
  return you will receive a £10 voucher to use across your weekend registr
 ation. There’s no limit on how many shifts and vouchers you can voluntee
 r for! \n\n Each shift is limited so don’t miss your chance to join in. 
 \n\n Notes: \n\n \n Vouchers will be emailed directly to you ASAP after fi
 lling in this registration. \n Please note that filling in this form will 
 not register you for the event itself\, just to volunteer. You must regist
 er using your discount directly. \n Please only register to volunteer at e
 vents you are planning on attending. \n We totally understand plans change
  so if you sign up and can no longer make it\, please let us know as soon 
 as possible ahead of the event. \n \n
LAST-MODIFIED:20260129T112826
LOCATION:London
ORGANIZER:mailto:events@aviationpride.org.uk
SUMMARY:Volunteer at Pride in the Skies
URL;VALUE=URI:https://ti.to/apuk/volunteer-at-pride
URL;VALUE=URI:https://ti.to/apuk/volunteer-at-pride
END:VEVENT
END:VCALENDAR
