BEGIN:VCALENDAR
VERSION:2.0
PRODID:icalendar-ruby
CALSCALE:GREGORIAN
BEGIN:VEVENT
DTSTAMP:20260426T021637Z
UID:eov39w
DTSTART:20260710T120000
DTEND:20260712T180000
CLASS:PUBLIC
CREATED:20251109T123421
DESCRIPTION: Register your interest and check back soon for all the details
  for our fly in and GA event at SleapKosh 2026! \n
LAST-MODIFIED:20260119T201331
LOCATION:Shropshire
ORGANIZER:mailto:events@aviationpride.org.uk
SUMMARY:APUK @ SleapKosh 2026 - TBC
URL;VALUE=URI:https://ti.to/apuk/sleapkosh-26
URL;VALUE=URI:https://ti.to/apuk/sleapkosh-26
END:VEVENT
END:VCALENDAR
