BEGIN:VCALENDAR
VERSION:2.0
PRODID:icalendar-ruby
CALSCALE:GREGORIAN
BEGIN:VEVENT
DTSTAMP:20260426T021915Z
UID:dPWCUA
DTSTART:20260703T170000
DTEND:20260705T150000
CLASS:PUBLIC
CREATED:20251109T122519
DESCRIPTION: Join us for our biggest event in 2026 - Pride in the Skies - L
 ondon! 10 years on from our first time at London Pride\, join us for a wee
 kend of celebrations with your LGBTQ+ aviation family. Below are all the d
 etails and this event is for anyone and everyone so we can't wait to see y
 ou there! \n\n Discounts are provided for active members. Member only tick
 ets require an active membership for each person attending the event. All 
 are welcome and non member pricing is available for non members. \n
LAST-MODIFIED:20260320T130745
LOCATION:London
ORGANIZER:mailto:events@aviationpride.org.uk
SUMMARY:Pride in the Skies 2026
URL;VALUE=URI:https://ti.to/apuk/pride-in-the-skies-26
URL;VALUE=URI:https://ti.to/apuk/pride-in-the-skies-26
END:VEVENT
BEGIN:VEVENT
DTSTAMP:20260426T021915Z
UID:dPWCUA1094392
DTSTART:20260703T190000
DTEND:20260703T230000
CLASS:PUBLIC
CREATED:20260110T184916
LAST-MODIFIED:20260401T224735
LOCATION:The Exhibit (Pre Pride Party + Brunch)\, 12 Balham Station Rd\, Lo
 ndon SW12 9SG\, UK
ORGANIZER:mailto:events@aviationpride.org.uk
SUMMARY:[Pride in the Skies 2026] Pre Pride Party
URL;VALUE=URI:https://ti.to/apuk/pride-in-the-skies-26
URL;VALUE=URI:https://ti.to/apuk/pride-in-the-skies-26
END:VEVENT
BEGIN:VEVENT
DTSTAMP:20260426T021915Z
UID:dPWCUA1094393
DTSTART:20260704T120000
DTEND:20260704T170000
CLASS:PUBLIC
CREATED:20260110T184958
LAST-MODIFIED:20260110T185210
LOCATION:Grosvenor Square (Parade Meeting Point)\, Grosvenor Sq\, London W1
 K 6AN\, UK
ORGANIZER:mailto:events@aviationpride.org.uk
SUMMARY:[Pride in the Skies 2026] Parade
URL;VALUE=URI:https://ti.to/apuk/pride-in-the-skies-26
URL;VALUE=URI:https://ti.to/apuk/pride-in-the-skies-26
END:VEVENT
BEGIN:VEVENT
DTSTAMP:20260426T021915Z
UID:dPWCUA1094394
DTSTART:20260705T130000
DTEND:20260705T160000
CLASS:PUBLIC
CREATED:20260110T185038
LAST-MODIFIED:20260322T095324
LOCATION:The Exhibit (Pre Pride Party + Brunch)\, 12 Balham Station Rd\, Lo
 ndon SW12 9SG\, UK
ORGANIZER:mailto:events@aviationpride.org.uk
SUMMARY:[Pride in the Skies 2026] Survivors Bottomless Drag Brunch
URL;VALUE=URI:https://ti.to/apuk/pride-in-the-skies-26
URL;VALUE=URI:https://ti.to/apuk/pride-in-the-skies-26
END:VEVENT
END:VCALENDAR
