BEGIN:VCALENDAR
VERSION:2.0
PRODID:icalendar-ruby
CALSCALE:GREGORIAN
BEGIN:VTIMEZONE
TZID:Europe/London
BEGIN:DAYLIGHT
DTSTART:20250330T020000
TZOFFSETFROM:+0000
TZOFFSETTO:+0100
RRULE:FREQ=YEARLY;BYDAY=-1SU;BYMONTH=3
TZNAME:BST
END:DAYLIGHT
BEGIN:STANDARD
DTSTART:20251026T010000
TZOFFSETFROM:+0100
TZOFFSETTO:+0000
RRULE:FREQ=YEARLY;BYDAY=-1SU;BYMONTH=10
TZNAME:GMT
END:STANDARD
END:VTIMEZONE
BEGIN:VEVENT
DTSTAMP:20260422T085454Z
UID:nbDdeQ
DTSTART;TZID=Europe/London:20250909T110000
DTEND;TZID=Europe/London:20250909T150000
CLASS:PUBLIC
CREATED:20250120T135616
DESCRIPTION: Aviation Pride UK’s next Flight for Inclusion industry advoc
 acy event will take place on\nTuesday 9th September 2025\, hosted by our c
 orporate sponsor Gatwick Airport. \n\n Titled “Turbulence Ahead: Navigat
 ing DEI Rollbacks in Aviation”\, the session will focus on the growing c
 hallenges to Diversity\, Equity\, and Inclusion across the sector. \n\n Th
 is event brings together industry partners to share experiences\, exchange
  ideas\, and discuss practical ways to support colleagues and maintain inc
 lusive working environments. As DEI initiatives come under increasing scru
 tiny in some areas\, it’s an opportunity to reflect on how the aviation 
 industry can respond constructively. \n\n The event is open to those worki
 ng across the industry who have an interest in workplace inclusion\, advoc
 acy\, or people-focused roles. \n\n Attendees are welcome to join either i
 n person at Gatwick or virtually online. \n
LAST-MODIFIED:20260119T201331
LOCATION:Destinations Place\, Gatwick Airport
ORGANIZER:mailto:hello@aviationpride.org.uk
SUMMARY:Turbulence Ahead: Navigating DEI Rollbacks in Aviation
URL;VALUE=URI:https://ti.to/apuk/ffi-sep-25
URL;VALUE=URI:https://ti.to/apuk/ffi-sep-25
END:VEVENT
END:VCALENDAR
