BEGIN:VCALENDAR
VERSION:2.0
PRODID:icalendar-ruby
CALSCALE:GREGORIAN
BEGIN:VEVENT
DTSTAMP:20260426T022006Z
UID:YvjKlA
DTSTART:20260822T120000
DTEND:20260822T200000
CLASS:PUBLIC
CREATED:20251109T123727
DESCRIPTION: APUK is excited to be attending Crawley Pride for the first ti
 me this year and everyone is welcome to join us\, whether you are a curren
 t member or simply interested in learning more about our mission. APUK isn
 't just about aircrew\, we welcome anyone works or has an interest in avia
 tion no matter their background. \n\n With Crawley’s close proximity to 
 Gatwick\, it is a great opportunity to raise awareness of APUK within the 
 local community as we take part in the parade and then come together to en
 joy the celebrations in the park afterwards. \n
LAST-MODIFIED:20260417T110111
LOCATION:Goffs Park\, Crawley
ORGANIZER:mailto:events@aviationpride.org.uk
SUMMARY:Crawley Pride August 2026
URL;VALUE=URI:https://ti.to/apuk/crawley-pride-26
URL;VALUE=URI:https://ti.to/apuk/crawley-pride-26
END:VEVENT
END:VCALENDAR
