BEGIN:VCALENDAR
VERSION:2.0
PRODID:icalendar-ruby
CALSCALE:GREGORIAN
BEGIN:VEVENT
DTSTAMP:20260426T021637Z
UID:Dodvqg
DTSTART:20260523T110000
DTEND:20260523T233000
CLASS:PUBLIC
CREATED:20260420T074457
DESCRIPTION: APUK is looking forward to bringing everyone together at Birmi
 ngham Pride this year. \n\n Whether you are a familiar face or joining us 
 for the first time\, it is a great chance to meet others from across the a
 viation community in a friendly and informal setting. \n\n We will be meet
 ing up as a group at 11am before heading off to watch the parade together 
 and then making our way into the Gay Village to enjoy everything the day h
 as to offer. It is very much a come along\, be yourself\, and enjoy the at
 mosphere kind of event. \n\n Tickets are just £5 and include an APUK t-sh
 irt. \n\n Everyone is welcome\, whether you work in aviation or simply hav
 e an interest in it. We hope you can join us. \n\n  \n \n\nMEETING VENUE T
 BC AND WILL BE NOTIFIED IN DUE COURSE\n\n \n \n \n**Please note that ticke
 ts do not include entry to the Gay Village - you will also need to purchas
 e your own entry ticket for Birmingham Pride\, details of which can be fou
 nd in the additional information below** \n
LAST-MODIFIED:20260422T151128
LOCATION:Birmingham City Centre
ORGANIZER:mailto:events@aviationpride.org.uk
SUMMARY:Birmingham Pride Meet-Up
URL;VALUE=URI:https://ti.to/apuk/birmingham-pride-meet-up
URL;VALUE=URI:https://ti.to/apuk/birmingham-pride-meet-up
END:VEVENT
END:VCALENDAR
