BEGIN:VCALENDAR
VERSION:2.0
PRODID:icalendar-ruby
CALSCALE:GREGORIAN
BEGIN:VTIMEZONE
TZID:Australia/Hobart
BEGIN:DAYLIGHT
DTSTART:20251005T030000
TZOFFSETFROM:+1000
TZOFFSETTO:+1100
RRULE:FREQ=YEARLY;BYDAY=1SU;BYMONTH=10
TZNAME:AEDT
END:DAYLIGHT
BEGIN:STANDARD
DTSTART:20260405T020000
TZOFFSETFROM:+1100
TZOFFSETTO:+1000
RRULE:FREQ=YEARLY;BYDAY=1SU;BYMONTH=4
TZNAME:AEST
END:STANDARD
END:VTIMEZONE
BEGIN:VEVENT
DTSTAMP:20260422T123833Z
UID:tpv9Kg
DTSTART;VALUE=DATE:20251017
DTEND;VALUE=DATE:20251019
CLASS:PUBLIC
CREATED:20250521T182106
DESCRIPTION: This Conference will explore how cartography has shaped explor
 ation and knowledge of the Southern Hemisphere\, from early speculative ma
 ps to modern technologies. Discussions will examine the challenges\, innov
 ations\, and lasting impacts of mapping some of the world’s most remote 
 and extreme regions across the hemisphere’s vast oceans. \n\n Topics of 
 interest include\, but are not limited to: \n\n \n Contributions of pionee
 ring cartographers \n The role of mapping in driving exploration \n The tr
 ansformative impact of modern tools such as GIS and satellite imagery \n T
 he influence of vast oceans\, remote islands\, and dynamic ice landscapes 
 on cartographic techniques \n \n
LAST-MODIFIED:20251002T175107
LOCATION:Hobart\, Tasmania
ORGANIZER:mailto:anzmaps1@gmail.com
SUMMARY:Southern Frontiers Conference
URL;VALUE=URI:https://ti.to/anzmaps/southern-frontiers-conference
URL;VALUE=URI:https://ti.to/anzmaps/southern-frontiers-conference
END:VEVENT
END:VCALENDAR
