BEGIN:VCALENDAR
VERSION:2.0
PRODID:icalendar-ruby
CALSCALE:GREGORIAN
BEGIN:VTIMEZONE
TZID:Australia/Brisbane
BEGIN:STANDARD
DTSTART:19920301T020000
TZOFFSETFROM:+1100
TZOFFSETTO:+1000
TZNAME:AEST
END:STANDARD
END:VTIMEZONE
BEGIN:VEVENT
DTSTAMP:20260425T192508Z
UID:htnE9w
DTSTART;VALUE=DATE:20221207
DTEND;VALUE=DATE:20221208
CLASS:PUBLIC
CREATED:20220802T123355
DESCRIPTION: 7th-9th of December \n
LAST-MODIFIED:20251126T092728
LOCATION:Brisbane\, Australia 
ORGANIZER:mailto:a.babri@uq.edu.au
SUMMARY:ANZACA2022
URL;VALUE=URI:https://ti.to/anzaca/anzaca2022
URL;VALUE=URI:https://ti.to/anzaca/anzaca2022
END:VEVENT
END:VCALENDAR
