BEGIN:VCALENDAR
VERSION:2.0
PRODID:icalendar-ruby
CALSCALE:GREGORIAN
BEGIN:VTIMEZONE
TZID:America/New_York
BEGIN:DAYLIGHT
DTSTART:20260308T030000
TZOFFSETFROM:-0500
TZOFFSETTO:-0400
RRULE:FREQ=YEARLY;BYDAY=2SU;BYMONTH=3
TZNAME:EDT
END:DAYLIGHT
BEGIN:STANDARD
DTSTART:20261101T010000
TZOFFSETFROM:-0400
TZOFFSETTO:-0500
RRULE:FREQ=YEARLY;BYDAY=1SU;BYMONTH=11
TZNAME:EST
END:STANDARD
END:VTIMEZONE
BEGIN:VEVENT
DTSTAMP:20260423T112102Z
UID:zCVYIA
DTSTART;TZID=America/New_York:20260606T100000
DTEND;TZID=America/New_York:20260606T130000
CLASS:PUBLIC
CREATED:20260412T083205
DESCRIPTION: Join us on Saturday\, June 6\, for Amherst Education Foundatio
 n's 6th Annual Mini-Golf Event! \n\nCome play anytime between 10am-1pm. Th
 is family-fun event brings together the community to support our public sc
 hools. Your donation of $50 secures your group of 4-5 people maximum. You 
 can also enter our raffle (you don't have to attend the event to participa
 te) full of gift certificates to local area restaurants and businesses! Al
 l money raised goes directly toward providing grants to teachers and staff
  in the Amherst-area public schools. \n\n Thank you to all our sponsors!! 
 If you are one of our sponsors\, please email amherstedfound@gmail.com to 
 register your team rather than using this site. \n
LAST-MODIFIED:20260412T090354
LOCATION:294 Russell St\, Hadley\, MA 01035
ORGANIZER:mailto:amherstedfound@gmail.com
SUMMARY:2026 AEF Mini-Golf Event
URL;VALUE=URI:https://ti.to/amherst-education-foundation/aef-mini-golf-2026
URL;VALUE=URI:https://ti.to/amherst-education-foundation/aef-mini-golf-2026
END:VEVENT
END:VCALENDAR
