BEGIN:VCALENDAR
VERSION:2.0
PRODID:icalendar-ruby
CALSCALE:GREGORIAN
BEGIN:VTIMEZONE
TZID:America/Los_Angeles
BEGIN:DAYLIGHT
DTSTART:20240310T030000
TZOFFSETFROM:-0800
TZOFFSETTO:-0700
RRULE:FREQ=YEARLY;BYDAY=2SU;BYMONTH=3
TZNAME:PDT
END:DAYLIGHT
BEGIN:STANDARD
DTSTART:20241103T010000
TZOFFSETFROM:-0700
TZOFFSETTO:-0800
RRULE:FREQ=YEARLY;BYDAY=1SU;BYMONTH=11
TZNAME:PST
END:STANDARD
END:VTIMEZONE
BEGIN:VEVENT
DTSTAMP:20260424T004618Z
UID:rTeiiQ
DTSTART;TZID=America/Los_Angeles:20240910T090000
DTEND;TZID=America/Los_Angeles:20240912T170000
CLASS:PUBLIC
CREATED:20240206T224250
DESCRIPTION: Airflow Summit is the annual conference for the worldwide comm
 unity of Apache Airflow users and contributors. \n
LAST-MODIFIED:20260105T134939
LOCATION:San Francisco\, CA
ORGANIZER:mailto:info@airflowsummit.org
SUMMARY:Airflow Summit 2024
URL;VALUE=URI:https://ti.to/airflowsummit/2024
URL;VALUE=URI:https://ti.to/airflowsummit/2024
END:VEVENT
END:VCALENDAR
