BEGIN:VCALENDAR
VERSION:2.0
PRODID:icalendar-ruby
CALSCALE:GREGORIAN
BEGIN:VTIMEZONE
TZID:America/New_York
BEGIN:DAYLIGHT
DTSTART:20260308T030000
TZOFFSETFROM:-0500
TZOFFSETTO:-0400
RRULE:FREQ=YEARLY;BYDAY=2SU;BYMONTH=3
TZNAME:EDT
END:DAYLIGHT
BEGIN:STANDARD
DTSTART:20251102T010000
TZOFFSETFROM:-0400
TZOFFSETTO:-0500
RRULE:FREQ=YEARLY;BYDAY=1SU;BYMONTH=11
TZNAME:EST
END:STANDARD
END:VTIMEZONE
BEGIN:VEVENT
DTSTAMP:20260419T175556Z
UID:YlU2dA
DTSTART;TZID=America/New_York:20251120T080000
DTEND;TZID=America/New_York:20251122T170000
CLASS:PUBLIC
CREATED:20250912T214706
DESCRIPTION: The AI Engineer Summit is the #1 technical conference in the w
 orld for AI engineers and leadership (CTOs &amp\; VPs of AI) to meet\, lea
 rn\, and advance the field\, for the third year running (2023\, 2024). \n\
 n For the first time we are convening AI Engineer CODE\, our first Summit 
 exclusively focused on Coding Agents! We are convening the top AI Coding b
 uilders and expert users in the field to share their work\, and recap the 
 best of 2025 in Code. \n\n \n\n We believe that in 2025 we may see the fir
 st Al agents "join the workforce" and materially change the output of comp
 anies. \n\n - Sam Altman \n\n \n\n Our events typically serve 3 specific p
 ersonas: \n\n \n the generalist software engineer onboarding to AI \n the 
 shipped-to-production AI engineer\, and \n VP's of AI (and other technical
  AI leaders). \n \n\n For this AI Engineer Summit\, we are focusing exclus
 ively on advanced\, in-production use-cases (no vendor pitches\, only real
  war stories/advice) and hard-won leadership lessons. If you are new to AI
  Engineering\, this conference is not suitable for you\, and we recommend 
 the AI Engineer World's Fair instead (reg coming soon\, confirmed for June
  30 - July 2 in SF) which has 18+ tracks including beginner workshops &amp
 \; talks. \n\n Location for each respective Session Day is at the TimesCen
 ter in NYC: \n\n \n Nov 20: AI Leadership Track Sessions (onsite at TimesC
 enter) \n Nov 21: Engineering Track Sessions -- Agents at Work (onsite at 
 TimesCenter) \n Sat\, Nov 22: Engineering Track Workshops (offsite: TBD) \
 n \n\n  \nWith a full AI Engineer Expo on both days and side events/partie
 s for learning\, connecting\, and hiring. \n\n All tickets fully refundabl
 e up to 2 weeks prior to the confirmed event date. \n
LAST-MODIFIED:20251121T094855
LOCATION:New York\, NY
ORGANIZER:mailto:attendees@ai.engineer
SUMMARY:AI Engineer Code Summit 2025 (NYC Nov 20-22)
URL;VALUE=URI:https://ti.to/aie/code
URL;VALUE=URI:https://ti.to/aie/code
END:VEVENT
END:VCALENDAR
