BEGIN:VCALENDAR
VERSION:2.0
PRODID:icalendar-ruby
CALSCALE:GREGORIAN
BEGIN:VEVENT
DTSTAMP:20260420T084753Z
UID:60b2Iw
DTSTART;VALUE=DATE:20240516
DTEND;VALUE=DATE:20240517
CLASS:PUBLIC
CREATED:20230615T133025
DESCRIPTION: Engage with over 400 like-minded souls from fintech startups\,
  fund administration professionals\, outsourcing firms\, middle and back o
 ffice experts\, industry influencers and technology professionals\, for a 
 day of discovery and enlightenment on innovation and showcasing the best o
 f what Ireland has to offer to the Investment Funds Industry. \n
LAST-MODIFIED:20240426T105758
LOCATION:Business School\, Trinity College\, Dublin 2\, Ireland
ORGANIZER:mailto:ciaran@fundrecs.com
SUMMARY:Adminovate 2024
URL;VALUE=URI:https://ti.to/adminovate/2024
URL;VALUE=URI:https://ti.to/adminovate/2024
END:VEVENT
END:VCALENDAR
