BEGIN:VCALENDAR
VERSION:2.0
PRODID:icalendar-ruby
CALSCALE:GREGORIAN
BEGIN:VEVENT
DTSTAMP:20260424T144504Z
UID:1EbGXA
DTSTART;VALUE=DATE:20180110
DTEND;VALUE=DATE:20180111
CLASS:PUBLIC
CREATED:20170804T141736
DESCRIPTION: Engage with over 300 like-minded souls from fintech startups\,
  fund administration professionals\, outsourcing firms\, middle and back o
 ffice experts\, industry influencers and technology professionals\, for a 
 day of discovery and enlightenment on innovation and showcasing the best o
 f what Ireland has to offer to the Investment Funds Industry. \n
LAST-MODIFIED:20240426T105758
LOCATION:Trinity College\, Dublin 2\, Ireland
ORGANIZER:mailto:contact@adminovate.ie
SUMMARY:Adminovate 2018
URL;VALUE=URI:https://ti.to/adminovate/2018
URL;VALUE=URI:https://ti.to/adminovate/2018
END:VEVENT
END:VCALENDAR
