BEGIN:VCALENDAR
VERSION:2.0
PRODID:icalendar-ruby
CALSCALE:GREGORIAN
BEGIN:VTIMEZONE
TZID:Europe/London
BEGIN:DAYLIGHT
DTSTART:20210328T020000
TZOFFSETFROM:+0000
TZOFFSETTO:+0100
RRULE:FREQ=YEARLY;BYDAY=-1SU;BYMONTH=3
TZNAME:BST
END:DAYLIGHT
BEGIN:STANDARD
DTSTART:20201025T010000
TZOFFSETFROM:+0100
TZOFFSETTO:+0000
RRULE:FREQ=YEARLY;BYDAY=-1SU;BYMONTH=10
TZNAME:GMT
END:STANDARD
END:VTIMEZONE
BEGIN:VEVENT
DTSTAMP:20260420T152249Z
UID:RxXsZQ
DTSTART;VALUE=DATE:20201117
DTEND;VALUE=DATE:20201120
CLASS:PUBLIC
CREATED:20200817T170102
DESCRIPTION: ```\nTechShare Pro is Europe's biggest accessibility and inclu
 sive design event. \n\n This year's event is online and includes keynotes\
 , workshops and panel sessions across a broad range of topics\, including:
  \n\n Business advantage of inclusive design\nFinancial services\, COVID a
 nd inclusion\nAccessible games\nLeadership\, culture change and inclusion\
 nInclusive workplaces\nAccessible media and entertainment\nAccessible jour
 neys \n\n And much\, much more \n\n Hosted by Microsoft\nSponsored by Barc
 lays\, Google\, Sony\nSupported by BDF\, Crawford Tech\, Jadu\, RNIB\n``` 
 \n
LAST-MODIFIED:20240731T072518
LOCATION:Online-only
ORGANIZER:mailto:mark.walker@abilitynet.org.uk
SUMMARY:TechShare Pro 2020
URL;VALUE=URI:https://ti.to/abilitynet/techshare-pro-2020
URL;VALUE=URI:https://ti.to/abilitynet/techshare-pro-2020
END:VEVENT
END:VCALENDAR
