BEGIN:VCALENDAR
VERSION:2.0
PRODID:icalendar-ruby
CALSCALE:GREGORIAN
BEGIN:VTIMEZONE
TZID:Europe/London
BEGIN:DAYLIGHT
DTSTART:20260329T020000
TZOFFSETFROM:+0000
TZOFFSETTO:+0100
RRULE:FREQ=YEARLY;BYDAY=-1SU;BYMONTH=3
TZNAME:BST
END:DAYLIGHT
BEGIN:STANDARD
DTSTART:20251026T010000
TZOFFSETFROM:+0100
TZOFFSETTO:+0000
RRULE:FREQ=YEARLY;BYDAY=-1SU;BYMONTH=10
TZNAME:GMT
END:STANDARD
END:VTIMEZONE
BEGIN:VEVENT
DTSTAMP:20260421T102813Z
UID:ArRh3g
DTSTART;TZID=Europe/London:20251213T160000
DTEND;TZID=Europe/London:20251213T173000
CLASS:PUBLIC
CREATED:20250502T182202
DESCRIPTION: Conductor: Tim Tricker \n\n Venue: Fountainhall Church at the 
 Stocket \n\n Winter Waltz \n\n Join us for an enchanting concert celebrati
 ng the many faces of winter. \n
LAST-MODIFIED:20260104T130116
LOCATION:Fountainhall Church at the Stocket\, Aberdeen
ORGANIZER:mailto:info@aberdeencityorchestra.co.uk
SUMMARY:Winter Waltz
URL;VALUE=URI:https://ti.to/aberdeen-city-orchestra/winter-waltz
URL;VALUE=URI:https://ti.to/aberdeen-city-orchestra/winter-waltz
END:VEVENT
END:VCALENDAR
