BEGIN:VCALENDAR
VERSION:2.0
PRODID:icalendar-ruby
CALSCALE:GREGORIAN
BEGIN:VTIMEZONE
TZID:Europe/Paris
BEGIN:DAYLIGHT
DTSTART:20260329T030000
TZOFFSETFROM:+0100
TZOFFSETTO:+0200
RRULE:FREQ=YEARLY;BYDAY=-1SU;BYMONTH=3
TZNAME:CEST
END:DAYLIGHT
BEGIN:STANDARD
DTSTART:20251026T020000
TZOFFSETFROM:+0200
TZOFFSETTO:+0100
RRULE:FREQ=YEARLY;BYDAY=-1SU;BYMONTH=10
TZNAME:CET
END:STANDARD
END:VTIMEZONE
BEGIN:VEVENT
DTSTAMP:20260421T104326Z
UID:cjeyJA
DTSTART;VALUE=DATE:20251106
DTEND;VALUE=DATE:20251108
CLASS:PUBLIC
CREATED:20240917T074355
LAST-MODIFIED:20251125T061814
LOCATION:New Cap Event Center\, Paris\, France
ORGANIZER:mailto:newcrafts@aardling.eu
SUMMARY:NewCrafts 2025
URL;VALUE=URI:https://ti.to/aafr/nc25
URL;VALUE=URI:https://ti.to/aafr/nc25
END:VEVENT
END:VCALENDAR
