BEGIN:VCALENDAR
VERSION:2.0
PRODID:icalendar-ruby
CALSCALE:GREGORIAN
BEGIN:VTIMEZONE
TZID:Europe/Dublin
BEGIN:DAYLIGHT
DTSTART:20261025T010000
TZOFFSETFROM:+0100
TZOFFSETTO:+0000
RRULE:FREQ=YEARLY;BYDAY=-1SU;BYMONTH=10
TZNAME:GMT
END:DAYLIGHT
BEGIN:STANDARD
DTSTART:20260329T020000
TZOFFSETFROM:+0000
TZOFFSETTO:+0100
RRULE:FREQ=YEARLY;BYDAY=-1SU;BYMONTH=3
TZNAME:IST
END:STANDARD
END:VTIMEZONE
BEGIN:VEVENT
DTSTAMP:20260422T085527Z
UID:ckCDhw
DTSTART;TZID=Europe/Dublin:20260514T183000
DTEND;TZID=Europe/Dublin:20260514T213000
CLASS:PUBLIC
CREATED:20260121T203247
DESCRIPTION: Thursday14th March \n\n  \nThis workshop is hosted by me Gemma
  Doyle. I am a Cuidiu Antenatal Ireland Educator and also work as an advan
 ced VBAC Doula in the Leinster area. I am excited to be able to offer onli
 ne group classes tailored specifically to supporting VBAC births. \n\n  \n
 Our VBAC classes provide practical\, evidence-based information to support
  you in preparing for a vaginal birth after caesarean. You’ll learn abou
 t your birth options\, how to advocate for yourself\, and ways to feel con
 fident and prepared for labour. Small group sizes allow time for discussio
 n and personalised support. \n\n All attendees will receive an annual memb
 ership to Cuidiu parent support charity worth €25 www.cuidiu.ie \n\n  \n
 Cancellation notice received 2 weeks prior to the class date will result i
 n a full refund of your payment. Cancellations after this timeframe cannot
  be refunded. Transferring to a class on another date may be possible in s
 ome circumstances. \n
LAST-MODIFIED:20260121T203648
LOCATION:Online
ORGANIZER:mailto:wexfordantenatal@gmail.com
SUMMARY:Antenatal Ireland Online VBAC Class May 14th
URL;VALUE=URI:https://ti.to/Wexford-Antenatal/vbacmay14
URL;VALUE=URI:https://ti.to/Wexford-Antenatal/vbacmay14
END:VEVENT
END:VCALENDAR
