BEGIN:VCALENDAR
VERSION:2.0
PRODID:icalendar-ruby
CALSCALE:GREGORIAN
BEGIN:VEVENT
DTSTAMP:20260422T172935Z
UID:8Hipfg
DTSTART;VALUE=DATE:20190507
DTEND;VALUE=DATE:20190508
CLASS:PUBLIC
CREATED:20190425T081800
DESCRIPTION: Join us for the next ManchesterR meetup. We will be at the Mal
 maison Manchester for an evening of presentations and networking.   \n\n 6
 .50pm Registration      \n\n 7pm Introduction   \n\n 7:10pm -  Presentatio
 ns:    \n\n \n Tracing the representation of concepts in texts using R\, D
 uygu Candarli\, Leeds University  \n WARNING! VIOLENCE! Predicting the out
 come of cage fights using R &amp\; ML\, Phil Nash\, On The Beach  \n Gauss
 ian Processes\, Chris Campbell\, Mango Solutions  \n \n\n For previous pre
 sentations\, please see www.rmanchester.org \n
LAST-MODIFIED:20190709T104937
LOCATION:Malmaison Manchester  1-3 Piccadilly · Manchester  
ORGANIZER:mailto:rmanchester@mango-solutions.com
SUMMARY:ManchesterR: 7 May
URL;VALUE=URI:https://ti.to/Rmanchester/7-May-2019
URL;VALUE=URI:https://ti.to/Rmanchester/7-May-2019
END:VEVENT
END:VCALENDAR
