BEGIN:VCALENDAR
VERSION:2.0
PRODID:icalendar-ruby
CALSCALE:GREGORIAN
BEGIN:VEVENT
DTSTAMP:20260421T170513Z
UID:AlGObA
DTSTART;VALUE=DATE:20180515
DTEND;VALUE=DATE:20180516
CLASS:PUBLIC
CREATED:20180404T080003
DESCRIPTION: Join us for the next ManchesterR meetup. We will be back at HO
 ME Manchester for an evening of presentations and networking.   \n\n 6pm T
 utorial:   \n\n \n Getting started with sparklyr - Chris Campbell\, Mango 
 Solutions  \n \n\n 6.50pm Registration      \n\n 7pm Introduction   \n\n 7
 :10pm -  Presentations:   \n\n \n RStudio Projects: Making your project QA
  into less of a project - Rachel Naylor\, Transport for the North  \n Inte
 rpretable Machine Learning Models using R - Pantelis Hadjipantelis\, bet36
 5  \n Storytelling with R – the plot thickens - Rob England\, N Brown  \
 n \n\n For previous presentations\, please see www.rmanchester.org \n
LAST-MODIFIED:20180718T132118
LOCATION:Manchester
ORGANIZER:mailto:rmanchester@mango-solutions.com
SUMMARY:15 May 2018
URL;VALUE=URI:https://ti.to/Rmanchester/15-may-2018
URL;VALUE=URI:https://ti.to/Rmanchester/15-may-2018
END:VEVENT
END:VCALENDAR
