BEGIN:VCALENDAR
VERSION:2.0
PRODID:icalendar-ruby
CALSCALE:GREGORIAN
BEGIN:VEVENT
DTSTAMP:20260423T042244Z
UID:C1adqg
DTSTART;VALUE=DATE:20200212
DTEND;VALUE=DATE:20200213
CLASS:PUBLIC
CREATED:20191122T101940
DESCRIPTION: Join us for the next ManchesterR meetup. We will be at HOME Ma
 nchester for an evening of presentations and networking.   \n\n 6.50pm Reg
 istration      \n\n 7pm Introduction   \n\n 7:10pm -  Presentations:    \n
 \n \n Dyfan Jones\, The Very Group – R and Athena … there is another w
 ay!?  \n Phil Chapman - KaRma Chameleon: blending in with the Pythons  \n 
 Chris Campbell\, AutoTrader - 6 Nations  \n \n\n For previous presentation
 s\, please see www.rmanchester.org \n
LAST-MODIFIED:20200213T115356
LOCATION:HOME\, 2 Tony Wilson Place\, Manchester M15 4FN
ORGANIZER:mailto:events@mango-solutions.com
SUMMARY:ManchesterR: 12 February 2020
URL;VALUE=URI:https://ti.to/Rmanchester/12-feb-2020
URL;VALUE=URI:https://ti.to/Rmanchester/12-feb-2020
END:VEVENT
END:VCALENDAR
