BEGIN:VCALENDAR
VERSION:2.0
PRODID:icalendar-ruby
CALSCALE:GREGORIAN
BEGIN:VTIMEZONE
TZID:Europe/London
BEGIN:DAYLIGHT
DTSTART:20250330T020000
TZOFFSETFROM:+0000
TZOFFSETTO:+0100
RRULE:FREQ=YEARLY;BYDAY=-1SU;BYMONTH=3
TZNAME:BST
END:DAYLIGHT
BEGIN:STANDARD
DTSTART:20251026T010000
TZOFFSETFROM:+0100
TZOFFSETTO:+0000
RRULE:FREQ=YEARLY;BYDAY=-1SU;BYMONTH=10
TZNAME:GMT
END:STANDARD
END:VTIMEZONE
BEGIN:VEVENT
DTSTAMP:20260420T170245Z
UID:3B9cag
DTSTART;TZID=Europe/London:20251024T160000
DTEND;TZID=Europe/London:20251026T140000
CLASS:PUBLIC
CREATED:20241030T095616
DESCRIPTION: South West Chagigah is where all our Progressive communities i
 n the South West meet together for a weekend of relaxation\, learning\, pr
 aying and fun. \n
LAST-MODIFIED:20260128T155243
LOCATION:Exeter
ORGANIZER:mailto:a.gellnick@liberaljudaism.org
SUMMARY:South West Chagigah 2025
URL;VALUE=URI:https://ti.to/MRJ/southwestchagigah2025
URL;VALUE=URI:https://ti.to/MRJ/southwestchagigah2025
END:VEVENT
END:VCALENDAR
