BEGIN:VCALENDAR
VERSION:2.0
PRODID:icalendar-ruby
CALSCALE:GREGORIAN
BEGIN:VEVENT
DTSTAMP:20260420T170106Z
UID:Kt1huA
DTSTART:20251121T170000
DTEND:20251123T140000
CLASS:PUBLIC
CREATED:20240909T090925
DESCRIPTION: Northern Chagigah is where all of our northern communities mee
 t together for a weekend of relaxation\, learning\, praying and fun. \n
LAST-MODIFIED:20260128T155243
LOCATION:East Yorkshire
ORGANIZER:mailto:sarita@rjuk.org
SUMMARY:Northern Chagigah 2025
URL;VALUE=URI:https://ti.to/MRJ/northernchagigah2025
URL;VALUE=URI:https://ti.to/MRJ/northernchagigah2025
END:VEVENT
END:VCALENDAR
