BEGIN:VCALENDAR
VERSION:2.0
PRODID:icalendar-ruby
CALSCALE:GREGORIAN
BEGIN:VEVENT
DTSTAMP:20260423T081017Z
UID:Mjf1dg
DTSTART;VALUE=DATE:20160818
DTEND;VALUE=DATE:20160822
CLASS:PUBLIC
CREATED:20160404T085903
DESCRIPTION: Get your tickets for the next IW event! \n
LAST-MODIFIED:20180313T183012
LOCATION:
ORGANIZER:mailto:info@industryworkshops.co.uk
SUMMARY:Industry Workshops 2016
URL;VALUE=URI:https://ti.to/IndustryWorkshops/industry-workshops-2016
URL;VALUE=URI:https://ti.to/IndustryWorkshops/industry-workshops-2016
END:VEVENT
END:VCALENDAR
