BEGIN:VCALENDAR
VERSION:2.0
PRODID:icalendar-ruby
CALSCALE:GREGORIAN
BEGIN:VEVENT
DTSTAMP:20260423T075640Z
UID:1bQXQQ
DTSTART;VALUE=DATE:20170901
DTEND;VALUE=DATE:20170904
CLASS:PUBLIC
CREATED:20170228T220402
DESCRIPTION: Registration Evening August 31st. 3 Day Event September 1 - 3 
 2017. \n
LAST-MODIFIED:20180611T152048
LOCATION:The Old Truman Brewery\, Brick Lane\, London
ORGANIZER:mailto:info@industryworkshops.co.uk
SUMMARY:Industry Workshops 2017
URL;VALUE=URI:https://ti.to/IndustryWorkshops/TICKETSIW17
URL;VALUE=URI:https://ti.to/IndustryWorkshops/TICKETSIW17
END:VEVENT
END:VCALENDAR
