BEGIN:VCALENDAR
VERSION:2.0
PRODID:icalendar-ruby
CALSCALE:GREGORIAN
BEGIN:VEVENT
DTSTAMP:20260422T090354Z
UID:ytQeJg
DTSTART;VALUE=DATE:20220512
DTEND;VALUE=DATE:20220513
CLASS:PUBLIC
CREATED:20220502T162801
LAST-MODIFIED:20220507T201920
ORGANIZER:mailto:icel@tcd.ie
SUMMARY:Seminar on the Role of EU Law in the Russo-Ukraine War
URL;VALUE=URI:https://ti.to/ICEL/seminar-on-the-role-of-eu-law-in-the-russo
 -ukraine-war
URL;VALUE=URI:https://ti.to/ICEL/seminar-on-the-role-of-eu-law-in-the-russo
 -ukraine-war
END:VEVENT
END:VCALENDAR
